BEGIN:VCALENDAR
VERSION:2.0
PRODID:-//ChamberMaster//Event Calendar 2.0//EN
METHOD:PUBLISH
X-PUBLISHED-TTL:P3D
REFRESH-INTERVAL:P3D
CALSCALE:GREGORIAN
BEGIN:VEVENT
DTSTART;VALUE=DATE:20181117
DTEND;VALUE=DATE:20181118
TRANSP:TRANSPARENT
X-MICROSOFT-CDO-ALLDAYEVENT:TRUE
SUMMARY:Santa Claus Sculpt
DESCRIPTION:Santa Clause Sculpt\n\n\n\nRegardless of what holiday(s) you and your family celebrate\, the holiday season is an exciting time for many. For some though this time of year is challenging due to financial struggles.Toys for Tots seeks to bring hope to children afflicted by poverty by providing them with holiday presents that they would otherwise not likely receive. What better way to spread a little holiday cheer than to help a child in need enjoy the same festivities this holiday season? The price for attending this class is simply the donation of a toy. So come\, bring a toy\, get your sculpt on\, and we will handle the rest! All of the donations collected will be brought to a local a toy collection site.
X-ALT-DESC;FMTTYPE=text/html:<span style="color: rgb(29\, 33\, 41)\; font-family: Helvetica\, Arial\, sans-serif\; font-size: 14px\; background-color: rgb(255\, 255\, 255)\;">Santa Clause Sculpt</span><br style="color: rgb(29\, 33\, 41)\; font-family: Helvetica\, Arial\, sans-serif\; font-size: 14px\; background-color: rgb(255\, 255\, 255)\;" />\n<br style="color: rgb(29\, 33\, 41)\; font-family: Helvetica\, Arial\, sans-serif\; font-size: 14px\; background-color: rgb(255\, 255\, 255)\;" />\n<span style="color: rgb(29\, 33\, 41)\; font-family: Helvetica\, Arial\, sans-serif\; font-size: 14px\; background-color: rgb(255\, 255\, 255)\;">Regardless of what holiday(s) you and your family celebrate\, the holiday season is an exciting time for many. For some though this time of year is challenging due to financial struggles.Toys for Tots seeks to bring hope to children afflicted by poverty by providing them with holiday presents that they would otherwise not likely receive. What better way to spread a little holiday cheer than to help a child in need enjoy the same festivities this holiday season? The price for attending this class is simply the donation of a toy. So come\, bring a toy\, get your sculpt on\, and we will handle the rest! All of the donations collected will be brought to a local a toy collection site.</span><br style="color: rgb(29\, 33\, 41)\; font-family: Helvetica\, Arial\, sans-serif\; font-size: 14px\; background-color: rgb(255\, 255\, 255)\;" />\n<br style="color: rgb(29\, 33\, 41)\; font-family: Helvetica\, Arial\, sans-serif\; font-size: 14px\; background-color: rgb(255\, 255\, 255)\;" />\n&nbsp\;
LOCATION:Pressed Hot Yoga & Juice 12425 Ulysses St NE\, Blaine
UID:e.380.187461
SEQUENCE:3
DTSTAMP:20260420T121255Z
URL:http://members.metronorthchamber.org/events/details/santa-claus-sculpt-187461
END:VEVENT

END:VCALENDAR
