BEGIN:VCALENDAR
VERSION:2.0
PRODID:-//ChamberMaster//Event Calendar 2.0//EN
METHOD:PUBLISH
X-PUBLISHED-TTL:P3D
REFRESH-INTERVAL:P3D
CALSCALE:GREGORIAN
BEGIN:VEVENT
DTSTART:20170526T233000Z
DTEND:20170527T013000Z
X-MICROSOFT-CDO-ALLDAYEVENT:FALSE
SUMMARY:Sand Creek Park Grand Opening
DESCRIPTION:Sand Creek Park has been under construction the past two years and reopens in 2017 with six new ball fields\, two multipurpose fields\, two playgrounds and a skate park. The park also features new restrooms and meeting/concessions building. Reconstruction of this athletic complex was possible thanks to a Park Bond approved by voters in 2013.\n\n\n\n6:30 Event begins with root beer floats and fun activities Concessions also available.\n\n7:15 Short ceremony.\n\n8:30 FREE showing of Disney's Zootopia\, bring a blanket or lawn chairs and enjoy this outdoor movie.
X-ALT-DESC;FMTTYPE=text/html:Sand Creek Park has been under construction the past two years and reopens in 2017 with six new ball fields\, two multipurpose fields\, two playgrounds and a skate park. The park also features new restrooms and meeting/concessions building. Reconstruction of this athletic complex was possible thanks to a Park Bond approved by voters in 2013.<br />\n<br />\n6:30 Event begins with root beer floats and fun activities Concessions also available.<br />\n7:15 Short ceremony.<br />\n8:30 FREE showing of Disney&#39\;s Zootopia\, bring a blanket or lawn chairs and enjoy this outdoor movie.
LOCATION:1008 Northdale Blvd Coon Rapids\, MN
UID:e.380.173369
SEQUENCE:3
DTSTAMP:20260421T153842Z
URL:http://members.metronorthchamber.org/events/details/sand-creek-park-grand-opening-173369
END:VEVENT

END:VCALENDAR
