BEGIN:VCALENDAR
VERSION:2.0
PRODID:-//ChamberMaster//Event Calendar 2.0//EN
METHOD:PUBLISH
X-PUBLISHED-TTL:P3D
REFRESH-INTERVAL:P3D
CALSCALE:GREGORIAN
BEGIN:VEVENT
DTSTART:20140420T150000Z
DTEND:20140420T190000Z
X-MICROSOFT-CDO-ALLDAYEVENT:FALSE
SUMMARY:Sammy Perella's Easter Brunch Buffet
DESCRIPTION:Celebrate this Sunday at Sammy Perrella's!\n\n\n\nJoin us Easter Sunday for our brunch buffet. Available Sunday April 20 in Coon Rapids & Brooklyn Park from 10am-2pm. We will be closing for the day at 4:00.\n\n	Pizza\n	Pasta\n	Broasted Chicken Drummies\n	Breakfast Sausage\n	Bacon\n	Scrambled Eggs\n	Mini Pancakes\n	Muffins\n	Steak Fries\n	Garlic Bread\n	Homemade Soup\n	Salad Bar\n\n\n\nOnly $9.99\n\nNo other specials\, coupons\, birthday cards\, or reward certificates please.
X-ALT-DESC;FMTTYPE=text/html:<br />\n<span style="font-size:16px\;"><strong>Celebrate this Sunday at Sammy Perrella&#39\;s!</strong></span><br />\n<br />\nJoin us Easter Sunday for our brunch buffet. Available Sunday April 20 in Coon Rapids &amp\; Brooklyn Park from 10am-2pm. We will be closing for the day at 4:00.\n<ul>\n	<li>Pizza</li>\n	<li>Pasta</li>\n	<li>Broasted Chicken Drummies</li>\n	<li>Breakfast Sausage</li>\n	<li>Bacon</li>\n	<li>Scrambled Eggs</li>\n	<li>Mini Pancakes</li>\n	<li>Muffins</li>\n	<li>Steak Fries</li>\n	<li>Garlic Bread</li>\n	<li>Homemade Soup</li>\n	<li>Salad Bar</li>\n</ul>\n<br />\nOnly $9.99<br />\nNo other specials\, coupons\, birthday cards\, or reward certificates please.
LOCATION:Sammy Perrella's Pizza 445 99th Ave. NW\, Suite #54 Coon Rapids\, MN 55433
UID:e.380.151272
SEQUENCE:3
DTSTAMP:20260424T043805Z
URL:http://members.metronorthchamber.org/events/details/sammy-perella-s-easter-brunch-buffet-04-20-2014-151272
END:VEVENT

END:VCALENDAR
