BEGIN:VCALENDAR
VERSION:2.0
PRODID:-//ChamberMaster//Event Calendar 2.0//EN
METHOD:PUBLISH
X-PUBLISHED-TTL:P3D
REFRESH-INTERVAL:P3D
CALSCALE:GREGORIAN
BEGIN:VEVENT
DTSTART:20120118T220000Z
DTEND:20120119T000000Z
X-MICROSOFT-CDO-ALLDAYEVENT:FALSE
SUMMARY:Sam's Club Open House
DESCRIPTION:Sam's Club Open House\n\n4-6 pm\n\n8150 University Ave.\, Fridley\n\n\n\nPlease join us for our Open House to enjoy special treats\, door prizes membership offers - all with no membership required!\n\n\n\nAny questions\, please call 763-792-6702
X-ALT-DESC;FMTTYPE=text/html:Sam&#39\;s Club Open House<br />\n4-6 pm<br />\n8150 University Ave.\, Fridley<br />\n<br />\nPlease join us for our Open House to enjoy special treats\, door prizes membership offers - all with no membership required!<br />\n<br />\nAny questions\, please call 763-792-6702
LOCATION:
UID:e.380.143016
SEQUENCE:3
DTSTAMP:20260426T002950Z
URL:http://members.metronorthchamber.org/events/details/sam-s-club-open-house-01-18-2012-143016
END:VEVENT

END:VCALENDAR
