BEGIN:VCALENDAR
VERSION:2.0
PRODID:-//ChamberMaster//Event Calendar 2.0//EN
METHOD:PUBLISH
X-PUBLISHED-TTL:P3D
REFRESH-INTERVAL:P3D
CALSCALE:GREGORIAN
BEGIN:VEVENT
DTSTART:20130825T163000Z
DTEND:20130825T210000Z
X-MICROSOFT-CDO-ALLDAYEVENT:FALSE
SUMMARY:Saints Game at Midway Stadium / Saints vs Gary\, Indiana
DESCRIPTION:As Treasurer of   WFLA = Western Faternal Life Association - I am inviting you to attend a Saints Game/Picnic.  My lodge is sponsoring this game on August 25. Tickets are available through 8/01/2013.   Will be a great outing for the family.\n\n\n\nPlease fill out this order form and return to Debbie Brown / Debbie's Tax Facts debbiestaxfacts@gmail.com or Greg Konerza / WFLA greg@islandmn.com.
X-ALT-DESC;FMTTYPE=text/html:As Treasurer of &nbsp\; WFLA = Western Faternal Life Association - I am inviting you to attend a Saints Game/Picnic. &nbsp\;My lodge is sponsoring this game on August 25. Tickets are available through 8/01/2013. &nbsp\; Will be a great outing for the family.<br />\n<br />\nPlease fill out this <u><a href="http://cloud.chambermaster.com/userfiles/UserFiles/chambers/380/File/1WFLADayatStPSaintsGame.pdf"><span style="color:#0066ff\;">order form</span></a></u> and return to Debbie Brown / Debbie&#39\;s Tax Facts <u><a href="mailto:debbiestaxfacts@gmail.com?subject=WFLA%20Picnic%20%26%20Saints%20Game%20Aug%2025"><span style="color:#0066ff\;">debbiestaxfacts@gmail.com</span></a></u> or Greg Konerza / WFLA <u><a href="mailto:greg@islandmn.com?subject=WFLA%20Picnic%20%26%20Saints%20Game%20Aug%2025"><span style="color:#0066ff\;">greg@islandmn.com</span></a></u>.
LOCATION:Midway Stadium 1771 Energy Park Drive St. Paul\, MN 55108
UID:e.380.149300
SEQUENCE:3
DTSTAMP:20260424T175638Z
URL:http://members.metronorthchamber.org/events/details/saints-game-at-midway-stadium-saints-vs-gary-indiana-08-25-2013-149300
END:VEVENT

END:VCALENDAR
