BEGIN:VCALENDAR
VERSION:2.0
PRODID:-//ChamberMaster//Event Calendar 2.0//EN
METHOD:PUBLISH
X-PUBLISHED-TTL:P3D
REFRESH-INTERVAL:P3D
CALSCALE:GREGORIAN
BEGIN:VEVENT
DTSTART:20150507T210000Z
DTEND:20150508T010000Z
X-MICROSOFT-CDO-ALLDAYEVENT:FALSE
SUMMARY:Running Aces Ribbon Cutting
DESCRIPTION:Grand Re-Opening of Running Aces\, We will be cutting the ribbon at 4:00pm. Running Aces will be providing a drink ticket and appetizers to all invited guests.\n\n\n\nOther activities include:\n\nLive Trout Pond\n\nLive Music\n\nIntroduction of new signature menu items.
X-ALT-DESC;FMTTYPE=text/html:Grand Re-Opening of Running Aces\, We will be cutting the ribbon at 4:00pm. Running Aces will be providing a drink ticket and appetizers to all invited guests.<br />\n<br />\n<strong>Other activities include:</strong><br />\nLive Trout Pond<br />\nLive Music<br />\nIntroduction of new signature menu items.
LOCATION:15201 Zurich Street NE Columbus\, MN 55025
UID:e.380.157282
SEQUENCE:3
DTSTAMP:20260423T083737Z
URL:http://members.metronorthchamber.org/events/details/running-aces-ribbon-cutting-05-07-2015-157282
END:VEVENT

END:VCALENDAR
