BEGIN:VCALENDAR
VERSION:2.0
PRODID:-//ChamberMaster//Event Calendar 2.0//EN
METHOD:PUBLISH
X-PUBLISHED-TTL:P3D
REFRESH-INTERVAL:P3D
CALSCALE:GREGORIAN
BEGIN:VEVENT
DTSTART:20161023T003000Z
DTEND:20161023T020000Z
X-MICROSOFT-CDO-ALLDAYEVENT:FALSE
SUMMARY:Running Aces October Comedy Show
DESCRIPTION:Saturday\, October 22 at 7:30pm\n\nHeadliner: Mike Mercury - Garrison Keillor's A Prairie Home Companion\, Top Clubs & Casinos\, Veteran Comic\n\nFeaturing: Ben San Del - Funniest Person in the Twin Cities Winner\, NPR\, Laughing Skull Comedy Festival\n\nHosted by: Chloe Radcliffe - Funniest Person in the Twin Cities Finalist\, Local FOX TV\n\nTickets: $15 in advance / $20 day of show
X-ALT-DESC;FMTTYPE=text/html:<p><strong>Saturday\, October 22 at 7:30pm</strong></p>\n\n<p><strong>Headliner:</strong>&nbsp\;Mike Mercury -&nbsp\;<em>Garrison Keillor&#39\;s A Prairie Home Companion\, Top Clubs &amp\; Casinos\, Veteran Comic</em></p>\n\n<p><strong>Featuring:</strong>&nbsp\;Ben San Del -&nbsp\;<em>Funniest Person in the Twin Cities Winner\, NPR\, Laughing Skull Comedy Festival</em></p>\n\n<p><strong>Hosted by:</strong>&nbsp\;Chloe Radcliffe -&nbsp\;<em>Funniest Person in the Twin Cities Finalist\, Local FOX TV</em></p>\n\n<p>Tickets: $15 in advance / $20 day of show</p>\n
LOCATION:Running Aces Casino & Racetrack
UID:e.380.169791
SEQUENCE:3
DTSTAMP:20260422T033035Z
URL:http://members.metronorthchamber.org/events/details/running-aces-october-comedy-show-169791
END:VEVENT

END:VCALENDAR
