BEGIN:VCALENDAR
VERSION:2.0
PRODID:-//ChamberMaster//Event Calendar 2.0//EN
METHOD:PUBLISH
X-PUBLISHED-TTL:P3D
REFRESH-INTERVAL:P3D
CALSCALE:GREGORIAN
BEGIN:VEVENT
DTSTART:20170122T012500Z
DTEND:20170122T030000Z
X-MICROSOFT-CDO-ALLDAYEVENT:FALSE
SUMMARY:Running Aces January Comedy Show
DESCRIPTION:Saturday\, January 21\, 2017 at 7:30pm\n\n \n\nHeadliner: Frank Roche - NBC's America's Got Talent\, Funny or Die\n\nFeature: Zach Coulter - ABSOLUT Funniest Comedian Contest Winner 2011\, Minny's Got Talent Contest Finalist \n\nHost: Marial Elizabeth - Twin Cities Comedians To Watch 2015\n\n \n\nTickets: $15 in advance / $20 day of event
X-ALT-DESC;FMTTYPE=text/html:<div><strong>Saturday\, January 21\, 2017 at 7:30pm</strong><br />\n&nbsp\;</div>\n\n<div><strong>Headliner:&nbsp\;</strong>Frank Roche&nbsp\;<span style="font-size:13.008px">-&nbsp\;<em>NBC&rsquo\;s America&rsquo\;s Got Talent\, Funny or Die</em></span></div>\n\n<div><strong>Feature:</strong>&nbsp\;Zach Coulter&nbsp\;<span style="font-size:13.008px">-&nbsp\;<em>ABSOLUT Funniest Comedian Contest Winner 2011\,&nbsp\;</em></span><em><span style="font-size:13.008px">Minny&rsquo\;s Got Talent Contest Finalist&nbsp\;</span></em></div>\n\n<div><strong>Host:&nbsp\;</strong>Marial Elizabeth&nbsp\;<span style="font-size:13.008px">-&nbsp\;<em>Twin Cities Comedians To Watch 2015</em></span></div>\n\n<div>&nbsp\;</div>\n\n<div>Tickets: $15 in advance / $20 day of event</div>\n
LOCATION:Running Aces Casino & Racetrack
UID:e.380.171410
SEQUENCE:3
DTSTAMP:20260421T221205Z
URL:http://members.metronorthchamber.org/events/details/running-aces-january-comedy-show-171410
END:VEVENT

END:VCALENDAR
