BEGIN:VCALENDAR
VERSION:2.0
PRODID:-//ChamberMaster//Event Calendar 2.0//EN
METHOD:PUBLISH
X-PUBLISHED-TTL:P3D
REFRESH-INTERVAL:P3D
CALSCALE:GREGORIAN
BEGIN:VEVENT
DTSTART;VALUE=DATE:20171202
DTEND;VALUE=DATE:20171203
TRANSP:TRANSPARENT
X-MICROSOFT-CDO-ALLDAYEVENT:TRUE
SUMMARY:Route 47 Grand Opening
DESCRIPTION:Join us for our Grand Opening!
X-ALT-DESC;FMTTYPE=text/html:Join us for our Grand Opening!<br />\n&nbsp\;
LOCATION:Route 47 Pub & Grub 7820 University Avenue NE Fridley 55432 763.444.1347
UID:e.380.179488
SEQUENCE:3
DTSTAMP:20260421T051735Z
URL:http://members.metronorthchamber.org/events/details/route-47-grand-opening-179488
END:VEVENT

END:VCALENDAR
