BEGIN:VCALENDAR
VERSION:2.0
PRODID:-//ChamberMaster//Event Calendar 2.0//EN
METHOD:PUBLISH
X-PUBLISHED-TTL:P3D
REFRESH-INTERVAL:P3D
CALSCALE:GREGORIAN
BEGIN:VEVENT
DTSTART:20170106T010000Z
DTEND:20170106T020000Z
X-MICROSOFT-CDO-ALLDAYEVENT:FALSE
SUMMARY:RockTape Workshop
DESCRIPTION:Have you ever seen Olympians or professional athletes with tape all over them? RockTape is a type of kineiseology tape that helps support posture\, decrease inflammation\, increase range of motion\, and support movement. There are many different types of taping techniques you can use for different areas of the body. Some of the tapings include those for ankle/knee support\, IT band and shoulder performance tapings\, postural tapings for the low back and upper back/shoulders\, and even taping techniques to support pregnancy!
X-ALT-DESC;FMTTYPE=text/html:Have you ever seen Olympians or professional athletes with tape all over them? RockTape is a type of kineiseology tape that helps support posture\, decrease inflammation\, increase range of motion\, and support movement. There are many different types of taping techniques you can use for different areas of the body. Some of the tapings include those for ankle/knee support\, IT band and shoulder performance tapings\, postural tapings for the low back and upper back/shoulders\, and even taping techniques to support pregnancy!<br />\n<br />\n&nbsp\;
LOCATION:HealthSource of Blaine 10904 Baltimore St. NE #103 Blaine\, MN 55449
UID:e.380.170169
SEQUENCE:3
DTSTAMP:20260421T235218Z
URL:http://members.metronorthchamber.org/events/details/rocktape-workshop-170169
END:VEVENT

END:VCALENDAR
