BEGIN:VCALENDAR
VERSION:2.0
PRODID:-//ChamberMaster//Event Calendar 2.0//EN
METHOD:PUBLISH
X-PUBLISHED-TTL:P3D
REFRESH-INTERVAL:P3D
CALSCALE:GREGORIAN
BEGIN:VEVENT
DTSTART:20131113T143000Z
DTEND:20131113T210000Z
X-MICROSOFT-CDO-ALLDAYEVENT:FALSE
SUMMARY:Risdall and Mikki Williams present two seminars
DESCRIPTION:Risdall and Mikki Williams present two seminars Wednesday\, Nov. 13\, 2013\, at the Risdall Conference Center\, 550 Main St.\, New Brighton.\n\n\n\nWilliams\, an award-winning certified speaking professional and lifestyle coach\, presents the presentation skills seminar "Speak Loudly\, and Carry a Big Shtick" 9 a.m.-noon\, with registration at 8:30 a.m.\n\n\n\nRisdall presents "Turn It Up with Online Reconnaissance and Relevance" from 1-3 p.m.
X-ALT-DESC;FMTTYPE=text/html:<br />\nRisdall and Mikki Williams present two seminars Wednesday\, Nov. 13\, 2013\, at the Risdall Conference Center\, 550 Main St.\, New Brighton.<br />\n<br />\nWilliams\, an award-winning certified speaking professional and lifestyle coach\, presents the presentation skills seminar &ldquo\;Speak Loudly\, and Carry a Big Shtick&rdquo\; 9 a.m.-noon\, with registration at 8:30 a.m.<br />\n<br />\nRisdall presents &ldquo\;Turn It Up with Online Reconnaissance and Relevance&rdquo\; from 1-3 p.m.<br />\n
LOCATION:Risdall Conference Center 550 Main St\, New Brighton
UID:e.380.149871
SEQUENCE:3
DTSTAMP:20260424T124501Z
URL:http://members.metronorthchamber.org/events/details/risdall-and-mikki-williams-present-two-seminars-11-13-2013-149871
END:VEVENT

END:VCALENDAR
