BEGIN:VCALENDAR
VERSION:2.0
PRODID:-//ChamberMaster//Event Calendar 2.0//EN
METHOD:PUBLISH
X-PUBLISHED-TTL:P3D
REFRESH-INTERVAL:P3D
CALSCALE:GREGORIAN
BEGIN:VEVENT
DTSTART:20190711T000000Z
DTEND:20190711T020000Z
X-MICROSOFT-CDO-ALLDAYEVENT:FALSE
SUMMARY:Taylors Falls Scenic Boat Tours - Ribs On The River
DESCRIPTION:This cruise goes out Wednesday evenings and includes a narrated scenic tour through the Dalles of the St. Croix with open seating and a buffet style meal.\n\nYour meal includes 4 bone delicately seasoned pork ribs\, a chicken drumstick\, coleslaw\, baked beans\, garlic mashed potatoes\, dollar buns\, dessert\, coffee\, and water. We offer a full cash bar which also accepts Mastercard\, Visa or Discover.  Soft drinks and lemonade are available for purchase as well. Each trip includes a narrated scenic tour of the history and the rock formations along the river.
X-ALT-DESC;FMTTYPE=text/html:<p>This cruise goes out Wednesday evenings and includes a narrated scenic tour through the Dalles of the St. Croix with open seating and a buffet style meal.</p>\n\n<p>Your meal includes 4 bone delicately seasoned pork ribs\, a chicken drumstick\, coleslaw\, baked beans\, garlic mashed potatoes\, dollar buns\, dessert\, coffee\, and water.&nbsp\;We offer a full cash bar which also accepts Mastercard\, Visa or Discover. &nbsp\;Soft drinks and lemonade are available for purchase as well.&nbsp\;Each trip includes a narrated scenic tour of the history and the rock formations along the river.</p>\n
LOCATION:220 South St Taylors Falls\, MN 55084
UID:e.380.188187
SEQUENCE:3
DTSTAMP:20260420T002601Z
URL:http://members.metronorthchamber.org/events/details/ribs-on-the-river-188187
END:VEVENT

END:VCALENDAR
