BEGIN:VCALENDAR
VERSION:2.0
PRODID:-//ChamberMaster//Event Calendar 2.0//EN
METHOD:PUBLISH
X-PUBLISHED-TTL:P3D
REFRESH-INTERVAL:P3D
CALSCALE:GREGORIAN
BEGIN:VEVENT
DTSTART:20171006T170000Z
DTEND:20171006T180000Z
X-MICROSOFT-CDO-ALLDAYEVENT:FALSE
SUMMARY:Ribbon Cutting - Yoga by Blisstopia
DESCRIPTION:You are all invited to our Grand Opening and ribbon cutting! Friday October 6th 11am-7pm - Ribbon cutting with the Mayor\, and the MetroNorth chamber of commerce at 12 noon. Amazing door prizes and give aways! Schedule a FREE Hot Yoga class\, or Vinyasa flow\, or Prenatal Yoga & more or a healing touch session or a workshop and get a great special today only! We will also be having classes starting at 5:30pm that evening so feel free to utilize your first free class during the Open House! Share with your fellow yogis in Club West & The Lakes of Blaine\, and surrounding communities. Share with business owners to collaborate on health and wellness! We are all one! We are here to help! http://www.yogabyblisstopia.com/
X-ALT-DESC;FMTTYPE=text/html:<span style="font-family: Helvetica\, Arial\, sans-serif\; color: rgb(0\, 0\, 0)\; font-size: 14px\; white-space: pre-wrap\; background-color: rgb(241\, 240\, 240)\;">You are all invited to our Grand Opening and ribbon cutting! Friday October 6th 11am-7pm - Ribbon cutting with the Mayor\, and the MetroNorth chamber of commerce at 12 noon. Amazing door prizes and give aways! Schedule a FREE Hot Yoga class\, or Vinyasa flow\, or Prenatal Yoga &amp\; more or a healing touch session or a workshop and get a great special today only! We will also be having classes starting at 5:30pm that evening so feel free to utilize your first free class during the Open House! Share with your fellow yogis in Club West &amp\; The Lakes of Blaine\, and surrounding communities. Share with business owners to collaborate on health and wellness! We are all one! We are here to help! </span><a href="https://l.facebook.com/l.php?u=http%3A%2F%2Fwww.yogabyblisstopia.com%2F&amp\;h=ATOBrgjxrVe2ECh-st2tOkVVedZ41jexx2XSP2mKMcH27LMNoZxjovXTsbPHOP_DWKu3WZK0ZYlzlvYdVC2DxgaIVnnRKfjB3UIOLj_c-UoHPOZqq8jzjcWJLpLyl4K04x9AfzzYGiM" rel="nofollow noopener" style="color: rgb(0\, 0\, 0)\; cursor: pointer\; font-family: Helvetica\, Arial\, sans-serif\; font-size: 14px\; white-space: pre-wrap\; background-color: rgb(241\, 240\, 240)\;" target="_blank">http://www.yogabyblisstopia.com/</a>
LOCATION:10611 Baltimore St. NE Blaine\, MN 55449
UID:e.380.177973
SEQUENCE:3
DTSTAMP:20260421T095038Z
URL:http://members.metronorthchamber.org/events/details/ribbon-cutting-yoga-by-blisstopia-177973
END:VEVENT

END:VCALENDAR
