BEGIN:VCALENDAR
VERSION:2.0
PRODID:-//ChamberMaster//Event Calendar 2.0//EN
METHOD:PUBLISH
X-PUBLISHED-TTL:P3D
REFRESH-INTERVAL:P3D
CALSCALE:GREGORIAN
BEGIN:VEVENT
DTSTART:20130627T200000Z
DTEND:20130628T010000Z
X-MICROSOFT-CDO-ALLDAYEVENT:FALSE
SUMMARY:Ribbon Cutting\, YMCA - Emma B. Howe
DESCRIPTION:Please come celebrate with us the ribbon cutting and Grand Opening the new Splash Deck at YMCA - Emma B. Howe Family!  The ribbon cutting will take place promptly at 3 pm.  Special activities include:  facility tours\, prize drawings and refreshments!
X-ALT-DESC;FMTTYPE=text/html:Please come celebrate with us the ribbon cutting and Grand Opening the new Splash Deck at YMCA - Emma B. Howe Family!&nbsp\; <span style="color: rgb(255\,0\,0)"><strong>The ribbon cutting will take place promptly at&nbsp\;3 pm.&nbsp\; </strong></span>Special activities include:&nbsp\; facility tours\, prize drawings and refreshments!
LOCATION:8950 Springbrook Drive Coon Rapids
UID:e.380.149091
SEQUENCE:3
DTSTAMP:20260424T223916Z
URL:http://members.metronorthchamber.org/events/details/ribbon-cutting-ymca-emma-b-howe-06-27-2013-149091
END:VEVENT

END:VCALENDAR
