BEGIN:VCALENDAR
VERSION:2.0
PRODID:-//ChamberMaster//Event Calendar 2.0//EN
METHOD:PUBLISH
X-PUBLISHED-TTL:P3D
REFRESH-INTERVAL:P3D
CALSCALE:GREGORIAN
BEGIN:VEVENT
DTSTART:20190125T140000Z
DTEND:20190125T143000Z
X-MICROSOFT-CDO-ALLDAYEVENT:FALSE
SUMMARY:Ribbon Cutting-Walmart Andover
DESCRIPTION:Come celebrate the Andover Walmart's Pick-Up Tower for online orders. Ribbon will be cut at 8:15am.\n\n	Conveniently located at the front of the store.\n	Holds up to 297 orders.\n	Extremely fast dispense.\n	No associates required.
X-ALT-DESC;FMTTYPE=text/html:Come celebrate the Andover Walmart&#39\;s Pick-Up Tower for online orders. Ribbon will be cut at 8:15am.\n<ul>\n	<li>Conveniently located at the front of the store.</li>\n	<li>Holds up to 297 orders.</li>\n	<li>Extremely fast dispense.</li>\n	<li>No associates required.</li>\n</ul>\n
LOCATION:Walmart 1851 Bunker Lake Boulevard NW Andover 55304
UID:e.380.187945
SEQUENCE:3
DTSTAMP:20260420T104404Z
URL:http://members.metronorthchamber.org/events/details/ribbon-cutting-walmart-andover-187945
END:VEVENT

END:VCALENDAR
