BEGIN:VCALENDAR
VERSION:2.0
PRODID:-//ChamberMaster//Event Calendar 2.0//EN
METHOD:PUBLISH
X-PUBLISHED-TTL:P3D
REFRESH-INTERVAL:P3D
CALSCALE:GREGORIAN
BEGIN:VEVENT
DTSTART:20180526T170000Z
DTEND:20180526T173000Z
X-MICROSOFT-CDO-ALLDAYEVENT:FALSE
SUMMARY:Ribbon Cutting - Vista Family Eye Care
DESCRIPTION:Join us for a Ribbon Cutting welcoming Dr. Vivian Ekemezie & her team to the MetroNorth Chamber of Commerce. Snacks and goodie bags included.
X-ALT-DESC;FMTTYPE=text/html:Join us for a Ribbon Cutting welcoming Dr. Vivian&nbsp\;Ekemezie&nbsp\;&amp\; her team to the MetroNorth Chamber of Commerce. Snacks and goodie bags included.
LOCATION:Vista Family Eye Care 9920 Foley Blvd NW Suite 120 Coon Rapids\, MN 55433-4579
UID:e.380.183759
SEQUENCE:3
DTSTAMP:20260420T213448Z
URL:http://members.metronorthchamber.org/events/details/ribbon-cutting-vista-family-eye-care-183759
END:VEVENT

END:VCALENDAR
