BEGIN:VCALENDAR
VERSION:2.0
PRODID:-//ChamberMaster//Event Calendar 2.0//EN
METHOD:PUBLISH
X-PUBLISHED-TTL:P3D
REFRESH-INTERVAL:P3D
CALSCALE:GREGORIAN
BEGIN:VEVENT
DTSTART:20170421T140000Z
DTEND:20170421T144500Z
X-MICROSOFT-CDO-ALLDAYEVENT:FALSE
SUMMARY:Ribbon Cutting - Vision Staffing Solutions
DESCRIPTION:Vision Staffing Solutions is holding a ribbon cutting to celebrate their 4 year business anniversary in their Blaine location! They will be holding their ribbon cutting after the 3rd Friday Sunrise at their location in the Village Bank building across from 21st Century Bank Building. Take the elevators to the 4th floor and they are thru the glass doors\, office #408. They will be providing light snacks & refreshments for their guests
X-ALT-DESC;FMTTYPE=text/html:<span style="color:#000000\;"><span style="font-size: 10pt\; font-family: Arial\, sans-serif\; background-image: initial\; background-position: initial\; background-size: initial\; background-repeat: initial\; background-attachment: initial\; background-origin: initial\; background-clip: initial\;">Vision Staffing </span><span style="font-size: 10pt\; font-family: Arial\, sans-serif\; background-image: initial\; background-position: initial\; background-size: initial\; background-repeat: initial\; background-attachment: initial\; background-origin: initial\; background-clip: initial\;">S</span><span style="font-size: 10pt\; font-family: Arial\, sans-serif\; background-image: initial\; background-position: initial\; background-size: initial\; background-repeat: initial\; background-attachment: initial\; background-origin: initial\; background-clip: initial\;">olutions is holding a ribbon cutting to celebrate their 4 year business anniversary</span><span style="font-size: 10pt\; font-family: Arial\, sans-serif\; background-image: initial\; background-position: initial\; background-size: initial\; background-repeat: initial\; background-attachment: initial\; background-origin: initial\; background-clip: initial\;"> in their Blaine location! They will be holding their ribbon cutting after the 3rd Friday Sunrise at their location in the Village Bank building across from<span class="apple-converted-space">&nbsp\;</span></span><span class="scayt-misspell-word"><span style="font-size: 10pt\; font-family: Arial\, sans-serif\;">21st</span></span><span class="apple-converted-space"><span style="font-size: 10pt\; font-family: Arial\, sans-serif\; background-image: initial\; background-position: initial\; background-size: initial\; background-repeat: initial\; background-attachment: initial\; background-origin: initial\; background-clip: initial\;">&nbsp\;</span></span><span style="font-size: 10pt\; font-family: Arial\, sans-serif\; background-image: initial\; background-position: initial\; background-size: initial\; background-repeat: initial\; background-attachment: initial\; background-origin: initial\; background-clip: initial\;">Century Bank Building. </span><span style="font-size: 10pt\; font-family: Arial\, sans-serif\; background-image: initial\; background-position: initial\; background-size: initial\; background-repeat: initial\; background-attachment: initial\; background-origin: initial\; background-clip: initial\;">Take the elevators to the 4<sup>th</sup> floor and they are thru the glass doors\, office #408. </span><span style="font-size: 10pt\; font-family: Arial\, sans-serif\; background-image: initial\; background-position: initial\; background-size: initial\; background-repeat: initial\; background-attachment: initial\; background-origin: initial\; background-clip: initial\;">They will be providing light </span><span style="font-size: 10pt\; font-family: Arial\, sans-serif\; background-image: initial\; background-position: initial\; background-size: initial\; background-repeat: initial\; background-attachment: initial\; background-origin: initial\; background-clip: initial\;">snacks &amp\;</span><span style="font-size: 10pt\; font-family: Arial\, sans-serif\; background-image: initial\; background-position: initial\; background-size: initial\; background-repeat: initial\; background-attachment: initial\; background-origin: initial\; background-clip: initial\;"> refreshments for their guests</span></span>
LOCATION:Vision Staffing Solutions 9298 Central Avenue NE Suite 4 Blaine\, MN 55434
UID:e.380.171741
SEQUENCE:3
DTSTAMP:20260421T170323Z
URL:http://members.metronorthchamber.org/events/details/ribbon-cutting-vision-staffing-solutions-171741
END:VEVENT

END:VCALENDAR
