BEGIN:VCALENDAR
VERSION:2.0
PRODID:-//ChamberMaster//Event Calendar 2.0//EN
METHOD:PUBLISH
X-PUBLISHED-TTL:P3D
REFRESH-INTERVAL:P3D
CALSCALE:GREGORIAN
BEGIN:VEVENT
DTSTART:20170903T021500Z
DTEND:20170903T024500Z
X-MICROSOFT-CDO-ALLDAYEVENT:FALSE
SUMMARY:Ribbon Cutting - Urban Air
DESCRIPTION:Grand Opening and Ribbon Cutting for Urban Air Adventure Park\n\nOpening to the public at 10 am
X-ALT-DESC;FMTTYPE=text/html:Grand Opening and Ribbon Cutting for Urban Air Adventure Park<br />\nOpening to the public at 10 am
LOCATION:10 Coon Rapids Blvd Coon Rapids\, MN 55448
UID:e.380.176721
SEQUENCE:3
DTSTAMP:20260421T095518Z
URL:http://members.metronorthchamber.org/events/details/ribbon-cutting-urban-air-176721
END:VEVENT

END:VCALENDAR
