BEGIN:VCALENDAR
VERSION:2.0
PRODID:-//ChamberMaster//Event Calendar 2.0//EN
METHOD:PUBLISH
X-PUBLISHED-TTL:P3D
REFRESH-INTERVAL:P3D
CALSCALE:GREGORIAN
BEGIN:VEVENT
DTSTART:20150723T211500Z
DTEND:20150723T214500Z
X-MICROSOFT-CDO-ALLDAYEVENT:FALSE
SUMMARY:Ribbon Cutting - Tyrone Transportation\, Inc.
DESCRIPTION:Tyrone Transportation is hosting a ribbon cutting to celebrate their new office in Blaine and their 32 continued years as a Blaine business!
X-ALT-DESC;FMTTYPE=text/html:Tyrone Transportation is hosting a ribbon cutting to celebrate their new office in Blaine and their&nbsp\;32 continued years as a Blaine business!
LOCATION:Tyrone Transportation\, Inc. 8741 Central Avenue NE Blaine\, MN 55434
UID:e.380.157771
SEQUENCE:3
DTSTAMP:20260423T054500Z
URL:http://members.metronorthchamber.org/events/details/ribbon-cutting-tyrone-transportation-inc-07-23-2015-157771
END:VEVENT

END:VCALENDAR
