BEGIN:VCALENDAR
VERSION:2.0
PRODID:-//ChamberMaster//Event Calendar 2.0//EN
METHOD:PUBLISH
X-PUBLISHED-TTL:P3D
REFRESH-INTERVAL:P3D
CALSCALE:GREGORIAN
BEGIN:VEVENT
DTSTART:20181108T220000Z
DTEND:20181108T230000Z
X-MICROSOFT-CDO-ALLDAYEVENT:FALSE
SUMMARY:Ribbon Cutting Torg Brewery
DESCRIPTION:Join us to Welcome Torg Brewery to the Chamber\n\nRibbon Cutting at 4:15pm
X-ALT-DESC;FMTTYPE=text/html:Join us to Welcome Torg Brewery to the Chamber<br />\nRibbon Cutting at 4:15pm
LOCATION:8421 University Ave NE Minneapolis\, Minnesota 55432
UID:e.380.187301
SEQUENCE:3
DTSTAMP:20260420T134502Z
URL:http://members.metronorthchamber.org/events/details/ribbon-cutting-torg-brewery-187301
END:VEVENT

END:VCALENDAR
