BEGIN:VCALENDAR
VERSION:2.0
PRODID:-//ChamberMaster//Event Calendar 2.0//EN
METHOD:PUBLISH
X-PUBLISHED-TTL:P3D
REFRESH-INTERVAL:P3D
CALSCALE:GREGORIAN
BEGIN:VEVENT
DTSTART:20190523T130000Z
DTEND:20190523T140000Z
X-MICROSOFT-CDO-ALLDAYEVENT:FALSE
SUMMARY:Ribbon Cutting to Welcome MaidPro to the Chamber!
DESCRIPTION:Please join us for a ribbon cutting to welcome MaidPro to the MetroNorth Chamber! Ribbon will be cut at 8:15 a.m. and light refreshements will be served.
X-ALT-DESC;FMTTYPE=text/html:Please join us for a ribbon cutting to welcome MaidPro to the MetroNorth Chamber! Ribbon will be cut at 8:15 a.m. and light refreshements will be served.
LOCATION:MaidPro 920 125th Lane NE Blaine 55434
UID:e.380.189281
SEQUENCE:3
DTSTAMP:20260420T041729Z
URL:http://members.metronorthchamber.org/events/details/ribbon-cutting-to-welcome-maidpro-to-the-chamber-189281
END:VEVENT

END:VCALENDAR
