BEGIN:VCALENDAR
VERSION:2.0
PRODID:-//ChamberMaster//Event Calendar 2.0//EN
METHOD:PUBLISH
X-PUBLISHED-TTL:P3D
REFRESH-INTERVAL:P3D
CALSCALE:GREGORIAN
BEGIN:VEVENT
DTSTART:20140905T160000Z
DTEND:20140905T163000Z
X-MICROSOFT-CDO-ALLDAYEVENT:FALSE
SUMMARY:Ribbon Cutting to Celebrate Remodel of Northeast Bank
DESCRIPTION:Please join us for special ribbon cutting and free lunch on the boulevard to celebrate the remodel of Northeast Bank!  Enjoy a tasty brat or hot dog\, music and take a tour of their newly remodeled office.\n\n \n\nFriday\, September 5th\, 2014\n\nThe ribbon cutting will take place promptly at 11 a.m.\n\n(though the celebration will last from 11 a.m.   1 p.m.)\n\nNortheast Bank\n\n200 Coon Rapids Blvd.\n\nCoon Rapids\, MN 55433
X-ALT-DESC;FMTTYPE=text/html:<span style="font-size: medium\;"><span style="font-family: calibri\;">Please join us for special ribbon cutting and free lunch on the boulevard to celebrate the remodel of Northeast Bank!&nbsp\; Enjoy a tasty brat or hot dog\, music and take a tour of their newly remodeled office.</span></span><br />\n&nbsp\;<br />\n<span style="font-size: medium\;"><span style="font-family: calibri\;">Friday\, September 5<sup><span style="font-size: small\;">th</span></sup>\, 2014</span></span><br />\n<strong><span style="font-size: medium\;"><span style="font-family: calibri\;">The ribbon cutting will take place promptly at 11 a.m.</span></span></strong><br />\n<em><span style="font-size: medium\;"><span style="font-family: calibri\;">(though the celebration will last from 11 a.m. &ndash\; 1 p.m.)</span></span></em><br />\n<span style="font-size: medium\;"><span style="font-family: calibri\;">Northeast Bank</span></span><br />\n<span style="font-size: medium\;"><span style="font-family: calibri\;">200 Coon Rapids Blvd.</span></span><br />\n<span style="font-size: medium\;"><span style="font-family: calibri\;">Coon Rapids\, MN 55433</span></span><br />\n&nbsp\;
LOCATION:Northeast Bank 200 Coon Rapids Blvd. Coon Rapids\, MN 55433
UID:e.380.151554
SEQUENCE:3
DTSTAMP:20260423T210220Z
URL:http://members.metronorthchamber.org/events/details/ribbon-cutting-to-celebrate-remodel-of-northeast-bank-09-05-2014-151554
END:VEVENT

END:VCALENDAR
