BEGIN:VCALENDAR
VERSION:2.0
PRODID:-//ChamberMaster//Event Calendar 2.0//EN
METHOD:PUBLISH
X-PUBLISHED-TTL:P3D
REFRESH-INTERVAL:P3D
CALSCALE:GREGORIAN
BEGIN:VEVENT
DTSTART:20190122T220000Z
DTEND:20190122T230000Z
X-MICROSOFT-CDO-ALLDAYEVENT:FALSE
SUMMARY:Ribbon Cutting-Timeless Elements Med Spa
DESCRIPTION:Please join us for a ribbon cutting to welcome new member Timeless Elements Med Spa and to celebrate their new location in Blaine. Refreshments will be provided and ribbon cut at 4:15 pm.
X-ALT-DESC;FMTTYPE=text/html:Please join us for a ribbon cutting to welcome new member Timeless Elements Med Spa and to celebrate their new location in Blaine. Refreshments will be provided and ribbon cut at 4:15 pm.
LOCATION:Timeless Elements Med Spa 10950 Club West Parkway NE\, Suite 150 Blaine 55449
UID:e.380.187721
SEQUENCE:3
DTSTAMP:20260420T103728Z
URL:http://members.metronorthchamber.org/events/details/ribbon-cutting-timeless-elements-med-spa-187721
END:VEVENT

END:VCALENDAR
