BEGIN:VCALENDAR
VERSION:2.0
PRODID:-//ChamberMaster//Event Calendar 2.0//EN
METHOD:PUBLISH
X-PUBLISHED-TTL:P3D
REFRESH-INTERVAL:P3D
CALSCALE:GREGORIAN
BEGIN:VEVENT
DTSTART:20160525T153000Z
DTEND:20160525T154500Z
X-MICROSOFT-CDO-ALLDAYEVENT:FALSE
SUMMARY:Ribbon Cutting - Thirty One Gifts
DESCRIPTION:We will be holding a ribbon cutting for Elaine Sheffrey of Thirty One Gifts. She is celebrating her new membership with the chamber. The ribbon cutting will be held at Rasmussen College\, immediately following the Working With Women meeting.
X-ALT-DESC;FMTTYPE=text/html:<span style="background-image:initial\;background-attachment:initial\;background-size:initial\;background-origin:initial\;background-clip:initial\;background-position:initial\;background-repeat:initial\;"><span style="font-family:arial\,sans-serif\;"><span style="font-size:10pt\;">We will be holding a ribbon cutting for Elaine Sheffrey of</span></span></span>&nbsp\;Thirty One Gifts<span style="background-image:initial\;background-attachment:initial\;background-size:initial\;background-origin:initial\;background-clip:initial\;background-position:initial\;background-repeat:initial\;"><span style="font-family:arial\,sans-serif\;"><span style="font-size:10pt\;">. She is celebrating her new membership with the chamber. The ribbon cutting will be held at Rasmussen College\, immediately following the Working With Women meeting.</span></span></span>
LOCATION:Rasmussen College - Blaine Campus 3629 95th Avenue NE Blaine\, MN 55014
UID:e.380.167392
SEQUENCE:3
DTSTAMP:20260422T121001Z
URL:http://members.metronorthchamber.org/events/details/ribbon-cutting-thirty-one-gifts-05-25-2016-167392
END:VEVENT

END:VCALENDAR
