BEGIN:VCALENDAR
VERSION:2.0
PRODID:-//ChamberMaster//Event Calendar 2.0//EN
METHOD:PUBLISH
X-PUBLISHED-TTL:P3D
REFRESH-INTERVAL:P3D
CALSCALE:GREGORIAN
BEGIN:VEVENT
DTSTART:20170125T164500Z
DTEND:20170125T170000Z
X-MICROSOFT-CDO-ALLDAYEVENT:FALSE
SUMMARY:Ribbon Cutting - The McDowell Agency\, Inc.
DESCRIPTION:Help celebrate the ribbon cutting of The McDowell Agency. They are celebrating their new membership with the MetroNorth Chamber. The ribbon cutting will take place immediately after the Working With Women program ends.
X-ALT-DESC;FMTTYPE=text/html:Help celebrate the ribbon cutting of The McDowell Agency. They are celebrating their new membership with the MetroNorth Chamber. The ribbon cutting will take place immediately after the Working With Women program ends.
LOCATION:Rasmussen College Blaine Campus
UID:e.380.171442
SEQUENCE:3
DTSTAMP:20260421T235924Z
URL:http://members.metronorthchamber.org/events/details/ribbon-cutting-the-mcdowell-agency-inc-171442
END:VEVENT

END:VCALENDAR
