BEGIN:VCALENDAR
VERSION:2.0
PRODID:-//ChamberMaster//Event Calendar 2.0//EN
METHOD:PUBLISH
X-PUBLISHED-TTL:P3D
REFRESH-INTERVAL:P3D
CALSCALE:GREGORIAN
BEGIN:VEVENT
DTSTART:20170829T170000Z
DTEND:20170829T180000Z
X-MICROSOFT-CDO-ALLDAYEVENT:FALSE
SUMMARY:Ribbon Cutting - The Estates at Arbor Oaks
DESCRIPTION:Ribbon Cutting for New Chamber Member and Grand Opening Celebration for - The Estates at Arbor Oaks\n\nFood/Refreshments will be served!\n\nEnter a raffle to win door prizes!\n\nPlenty of parking!
X-ALT-DESC;FMTTYPE=text/html:Ribbon Cutting for New Chamber Member and Grand Opening Celebration for - The Estates at Arbor Oaks<br />\nFood/Refreshments will be served!<br />\nEnter a raffle to win door prizes!<br />\nPlenty of parking!<br />\n&nbsp\;
LOCATION:1753 156th Lane NW Andover\, MN 55304
UID:e.380.176494
SEQUENCE:3
DTSTAMP:20260421T111047Z
URL:http://members.metronorthchamber.org/events/details/ribbon-cutting-the-estates-at-arbor-oaks-176494
END:VEVENT

END:VCALENDAR
