BEGIN:VCALENDAR
VERSION:2.0
PRODID:-//ChamberMaster//Event Calendar 2.0//EN
METHOD:PUBLISH
X-PUBLISHED-TTL:P3D
REFRESH-INTERVAL:P3D
CALSCALE:GREGORIAN
BEGIN:VEVENT
DTSTART:20161114T173000Z
DTEND:20161114T193000Z
X-MICROSOFT-CDO-ALLDAYEVENT:FALSE
SUMMARY:Ribbon Cutting - The Dental Specialists
DESCRIPTION:Come help celebrate the new membership and ground breaking for The Dental Specialists. They are located on Northdale Blvd on Coon Rapids and they will be catering lunch from D'Amicos. We will cut the ribbon at 12:30pm.
X-ALT-DESC;FMTTYPE=text/html:Come help celebrate the new membership and ground breaking for The Dental Specialists. They are located on Northdale&nbsp\;Blvd on Coon Rapids and they will be catering lunch from D&#39\;Amicos. We will cut the ribbon at 12:30pm.
LOCATION:The Dental Specialists 3360 Northdale Blvd. W. Coon Rapids\, MN 55448
UID:e.380.169797
SEQUENCE:3
DTSTAMP:20260422T020217Z
URL:http://members.metronorthchamber.org/events/details/ribbon-cutting-the-dental-specialists-169797
END:VEVENT

END:VCALENDAR
