BEGIN:VCALENDAR
VERSION:2.0
PRODID:-//ChamberMaster//Event Calendar 2.0//EN
METHOD:PUBLISH
X-PUBLISHED-TTL:P3D
REFRESH-INTERVAL:P3D
CALSCALE:GREGORIAN
BEGIN:VEVENT
DTSTART:20180509T203000Z
DTEND:20180509T210000Z
X-MICROSOFT-CDO-ALLDAYEVENT:FALSE
SUMMARY:Ribbon Cutting - The Bank of Elk River
DESCRIPTION:Join us for a ribbon cutting\, tour\, and light refreshments.
X-ALT-DESC;FMTTYPE=text/html:Join us for a ribbon cutting\, tour\, and light refreshments.
LOCATION:The Bank of Elk River 630 Main Street NW Elk River\, MN 55330
UID:e.380.183781
SEQUENCE:3
DTSTAMP:20260420T213431Z
URL:http://members.metronorthchamber.org/events/details/ribbon-cutting-the-bank-of-elk-river-183781
END:VEVENT

END:VCALENDAR
