BEGIN:VCALENDAR
VERSION:2.0
PRODID:-//ChamberMaster//Event Calendar 2.0//EN
METHOD:PUBLISH
X-PUBLISHED-TTL:P3D
REFRESH-INTERVAL:P3D
CALSCALE:GREGORIAN
BEGIN:VEVENT
DTSTART:20170502T170000Z
DTEND:20170502T174500Z
X-MICROSOFT-CDO-ALLDAYEVENT:FALSE
SUMMARY:Ribbon Cutting - That Phancy Little Shop
DESCRIPTION:Attend the Ribbon Cutting of Phancy Face Painting & Bounce House Plus! They opened their first storefront. It's in Northtown Mall between Herberger's and Hobby Lobby. Enter in door 2.
X-ALT-DESC;FMTTYPE=text/html:<span style="background-image:initial\;background-position:initial\;background-size:initial\;background-repeat:initial\;background-attachment:initial\;background-origin:initial\;background-clip:initial\;">Attend the Ribbon Cutting of&nbsp\;</span>Phancy<span style="background-image:initial\;background-position:initial\;background-size:initial\;background-repeat:initial\;background-attachment:initial\;background-origin:initial\;background-clip:initial\;">&nbsp\;Face Painting &amp\; Bounce House Plus! They opened their first storefront. It&#39\;s in&nbsp\;</span>Northtown&nbsp\;<span style="background-image:initial\;background-position:initial\;background-size:initial\;background-repeat:initial\;background-attachment:initial\;background-origin:initial\;background-clip:initial\;">Mall between&nbsp\;</span>Herberger&#39\;s&nbsp\;<span style="background-image:initial\;background-position:initial\;background-size:initial\;background-repeat:initial\;background-attachment:initial\;background-origin:initial\;background-clip:initial\;">and Hobby Lobby. Enter in door 2.&nbsp\;</span>
LOCATION:Northtown Mall Door 2 Between Herberger's and Hobby Lobby. That Phancy Little Shop
UID:e.380.172024
SEQUENCE:3
DTSTAMP:20260421T170725Z
URL:http://members.metronorthchamber.org/events/details/ribbon-cutting-that-phancy-little-shop-172024
END:VEVENT

END:VCALENDAR
