BEGIN:VCALENDAR
VERSION:2.0
PRODID:-//ChamberMaster//Event Calendar 2.0//EN
METHOD:PUBLISH
X-PUBLISHED-TTL:P3D
REFRESH-INTERVAL:P3D
CALSCALE:GREGORIAN
BEGIN:VEVENT
DTSTART:20130626T153000Z
DTEND:20130626T160000Z
X-MICROSOFT-CDO-ALLDAYEVENT:FALSE
SUMMARY:Ribbon Cutting\, Take Shape for Life
DESCRIPTION:Please join us for a ribbon cutting for Take Shape for Life\, immediately following Working with Women!
X-ALT-DESC;FMTTYPE=text/html:Please join us for a ribbon cutting for Take Shape for Life\, immediately following Working with Women!
LOCATION:Rasmussen College 3629 95th Ave. NE Blaine
UID:e.380.148941
SEQUENCE:3
DTSTAMP:20260424T210704Z
URL:http://members.metronorthchamber.org/events/details/ribbon-cutting-take-shape-for-life-06-26-2013-148941
END:VEVENT

END:VCALENDAR
