BEGIN:VCALENDAR
VERSION:2.0
PRODID:-//ChamberMaster//Event Calendar 2.0//EN
METHOD:PUBLISH
X-PUBLISHED-TTL:P3D
REFRESH-INTERVAL:P3D
CALSCALE:GREGORIAN
BEGIN:VEVENT
DTSTART:20170223T180000Z
DTEND:20170223T184500Z
X-MICROSOFT-CDO-ALLDAYEVENT:FALSE
SUMMARY:Ribbon Cutting - Streamworks
DESCRIPTION:Help celebrate the new membership of Streamworks in Blaine. They will be celebrating with a ribbon cutting\, hors d'oeuvres and tours of their facility.
X-ALT-DESC;FMTTYPE=text/html:Help celebrate the new membership of&nbsp\;<a href="http://members.metronorthchamber.org/list/member/streamworks-10453">Streamworks</a>&nbsp\;in Blaine. They will be celebrating with a ribbon cutting\, hors d&rsquo\;oeuvres and tours of their facility.&nbsp\;
LOCATION:Streamworks 3640 Pheasant Ridge Drive NE Blaine\, MN 55449
UID:e.380.171220
SEQUENCE:3
DTSTAMP:20260421T203937Z
URL:http://members.metronorthchamber.org/events/details/ribbon-cutting-streamworks-171220
END:VEVENT

END:VCALENDAR
