BEGIN:VCALENDAR
VERSION:2.0
PRODID:-//ChamberMaster//Event Calendar 2.0//EN
METHOD:PUBLISH
X-PUBLISHED-TTL:P3D
REFRESH-INTERVAL:P3D
CALSCALE:GREGORIAN
BEGIN:VEVENT
DTSTART:20150527T210000Z
DTEND:20150527T220000Z
X-MICROSOFT-CDO-ALLDAYEVENT:FALSE
SUMMARY:Ribbon Cutting - Sterling House of Blaine
DESCRIPTION:Sterling House of Blaine is hosting a ribbon cutting to celebrate their new name and branding\, Brookdale Blaine. Ribbon will be cut at 4:00pm
X-ALT-DESC;FMTTYPE=text/html:Sterling House of Blaine is hosting a ribbon cutting to celebrate their new name and branding\, Brookdale Blaine. Ribbon will be cut at 4:00pm
LOCATION:Sterling House of Blaine 1005 Paul Parkway NE Blaine\, 55434
UID:e.380.157320
SEQUENCE:3
DTSTAMP:20260423T084621Z
URL:http://members.metronorthchamber.org/events/details/ribbon-cutting-sterling-house-of-blaine-05-27-2015-157320
END:VEVENT

END:VCALENDAR
