BEGIN:VCALENDAR
VERSION:2.0
PRODID:-//ChamberMaster//Event Calendar 2.0//EN
METHOD:PUBLISH
X-PUBLISHED-TTL:P3D
REFRESH-INTERVAL:P3D
CALSCALE:GREGORIAN
BEGIN:VEVENT
DTSTART:20181206T213000Z
DTEND:20181206T214500Z
X-MICROSOFT-CDO-ALLDAYEVENT:FALSE
SUMMARY:Ribbon Cutting - Stepping Stone
DESCRIPTION:Join us for Stepping Stone's 10th Anniversary!!
X-ALT-DESC;FMTTYPE=text/html:Join us for Stepping Stone&#39\;s 10th Anniversary!!
LOCATION:Stepping Stone 3300 4th Avenue North Cronin Building #14 Anoka\, MN 55303
UID:e.380.187477
SEQUENCE:3
DTSTAMP:20260420T121326Z
URL:http://members.metronorthchamber.org/events/details/ribbon-cutting-stepping-stone-187477
END:VEVENT

END:VCALENDAR
