BEGIN:VCALENDAR
VERSION:2.0
PRODID:-//ChamberMaster//Event Calendar 2.0//EN
METHOD:PUBLISH
X-PUBLISHED-TTL:P3D
REFRESH-INTERVAL:P3D
CALSCALE:GREGORIAN
BEGIN:VEVENT
DTSTART:20171102T210000Z
DTEND:20171102T220000Z
X-MICROSOFT-CDO-ALLDAYEVENT:FALSE
SUMMARY:Ribbon Cutting - Spalons by Skin Bliss
DESCRIPTION:Ribbon Cutting for new chamber member Spalons by Skin Bliss! They will also be introducing injections with their Nurse on stadd and possibly a new body contouring laser- Stay Tuned for updates!\n\n\n\nCatering by Chipotle\, tours and possibly door prizes!
X-ALT-DESC;FMTTYPE=text/html:Ribbon Cutting for new chamber member Spalons by Skin Bliss! They will also be introducing injections with their Nurse on stadd and possibly a new body contouring laser- Stay Tuned for updates!<br />\n<br />\nCatering by Chipotle\, tours and possibly door prizes!
LOCATION:Spalons by Skin Bliss 2345 124th Court NE Blaine
UID:e.380.179196
SEQUENCE:3
DTSTAMP:20260421T071300Z
URL:http://members.metronorthchamber.org/events/details/ribbon-cutting-spalons-by-skin-bliss-179196
END:VEVENT

END:VCALENDAR
