BEGIN:VCALENDAR
VERSION:2.0
PRODID:-//ChamberMaster//Event Calendar 2.0//EN
METHOD:PUBLISH
X-PUBLISHED-TTL:P3D
REFRESH-INTERVAL:P3D
CALSCALE:GREGORIAN
BEGIN:VEVENT
DTSTART:20190814T190000Z
DTEND:20190814T211500Z
X-MICROSOFT-CDO-ALLDAYEVENT:FALSE
SUMMARY:Ribbon Cutting Sierra Pacific Mortgage
DESCRIPTION:Join us for new member Sierra Pacific Mortgage's open house and ribbon cutting on Wednesday\, August 14. Ribbon will be cut at 4:15 pm and light refreshments will be served.
X-ALT-DESC;FMTTYPE=text/html:Join us for new member Sierra Pacific Mortgage&#39\;s open house and ribbon cutting on Wednesday\, August 14. Ribbon will be cut at 4:15 pm and light refreshments will be served.
LOCATION:Sierra Pacific Mortgage 10400 Baltimore Street NE\, Suite 120 Blaine 55449
UID:e.380.190703
SEQUENCE:3
DTSTAMP:20260419T213039Z
URL:http://members.metronorthchamber.org/events/details/ribbon-cutting-sierra-pacific-mortgage-190703
END:VEVENT

END:VCALENDAR
