BEGIN:VCALENDAR
VERSION:2.0
PRODID:-//ChamberMaster//Event Calendar 2.0//EN
METHOD:PUBLISH
X-PUBLISHED-TTL:P3D
REFRESH-INTERVAL:P3D
CALSCALE:GREGORIAN
BEGIN:VEVENT
DTSTART:20161208T220000Z
DTEND:20161208T230000Z
X-MICROSOFT-CDO-ALLDAYEVENT:FALSE
SUMMARY:Ribbon Cutting - Seva Beauty Spa - Blaine
DESCRIPTION:Ribbon Cutting for Seva Beauty Spa.\n\nHaving refreshments (cookies\, bottled water)
X-ALT-DESC;FMTTYPE=text/html:Ribbon Cutting for Seva Beauty Spa.<br />\nHaving refreshments (cookies\, bottled water)<br />\n&nbsp\;
LOCATION:Seva Beauty Spa 4369 Ball Road NE Blaine\, MN 55449 (Inside Walmart)
UID:e.380.170145
SEQUENCE:3
DTSTAMP:20260421T235828Z
URL:http://members.metronorthchamber.org/events/details/ribbon-cutting-seva-beauty-spa-blaine-170145
END:VEVENT

END:VCALENDAR
