BEGIN:VCALENDAR
VERSION:2.0
PRODID:-//ChamberMaster//Event Calendar 2.0//EN
METHOD:PUBLISH
X-PUBLISHED-TTL:P3D
REFRESH-INTERVAL:P3D
CALSCALE:GREGORIAN
BEGIN:VEVENT
DTSTART:20160924T150000Z
DTEND:20160924T180000Z
X-MICROSOFT-CDO-ALLDAYEVENT:FALSE
SUMMARY:Ribbon Cutting - SBM Fire Department Fire Station #4
DESCRIPTION:The SBM Fire Department will be holding a ribbon cutting ceremony and open house to celebrate the completion of an exterior renovation on Fire Station #4 in Blaine.\n\n\n\nStick around for live fire demonstrations\, safety presentations\, snacks\, kids activities\, and more!\n\n\n\nThe open house will take place at 10:00am on Saturday September 24th.\n\n\n\nstick around for live fire demonstrations\, safety presentations\, snacks\, kids activities\, and more!
X-ALT-DESC;FMTTYPE=text/html:<span style="font-family:arial\;">The SBM Fire Department will be holding a ribbon cutting ceremony and open house to celebrate the completion of an exterior renovation on Fire Station #4 in Blaine.</span><br />\n<br />\nStick around for live fire demonstrations\, safety presentations\, snacks\, kids activities\, and more!<br />\n<br />\n<span style="font-family:arial\;">The open house will take place at 10:00am on Saturday September 24th.<br />\n<br />\nstick around for live fire demonstrations\, safety presentations\, snacks\, kids activities\, and more!</span><br />\n&nbsp\;
LOCATION:Fire Station #4 10290 Lever Street Blaine\, MN 55014
UID:e.380.168649
SEQUENCE:3
DTSTAMP:20260422T065943Z
URL:http://members.metronorthchamber.org/events/details/ribbon-cutting-sbm-fire-department-fire-station-4-09-24-2016-168649
END:VEVENT

END:VCALENDAR
