BEGIN:VCALENDAR
VERSION:2.0
PRODID:-//ChamberMaster//Event Calendar 2.0//EN
METHOD:PUBLISH
X-PUBLISHED-TTL:P3D
REFRESH-INTERVAL:P3D
CALSCALE:GREGORIAN
BEGIN:VEVENT
DTSTART:20160701T140000Z
DTEND:20160701T141500Z
X-MICROSOFT-CDO-ALLDAYEVENT:FALSE
SUMMARY:Ribbon Cutting - Sanford for Senate
DESCRIPTION:Brad Sanford will be holding a ribbon cutting at the July 1st Sunrise Breakfast at The Tavern in Blaine. Brad Sanford will be celebrating his new membership with the MetroNorth Chamber of Commerce.
X-ALT-DESC;FMTTYPE=text/html:Brad Sanford will be holding a ribbon cutting at the July 1st Sunrise Breakfast at The Tavern in Blaine. Brad Sanford will be celebrating his new membership with the MetroNorth Chamber of Commerce.&nbsp\;
LOCATION:The Tavern Grill Blaine. 10950 Club West Pkwy Blaine\, MN 55449
UID:e.380.168498
SEQUENCE:3
DTSTAMP:20260422T103220Z
URL:http://members.metronorthchamber.org/events/details/ribbon-cutting-sanford-for-senate-07-01-2016-168498
END:VEVENT

END:VCALENDAR
