BEGIN:VCALENDAR
VERSION:2.0
PRODID:-//ChamberMaster//Event Calendar 2.0//EN
METHOD:PUBLISH
X-PUBLISHED-TTL:P3D
REFRESH-INTERVAL:P3D
CALSCALE:GREGORIAN
BEGIN:VEVENT
DTSTART:20171213T223000Z
DTEND:20171213T233000Z
X-MICROSOFT-CDO-ALLDAYEVENT:FALSE
SUMMARY:Ribbon Cutting- Route 47 Pub & Grill
DESCRIPTION:New Member Ribbon Cutting at Route 47 Pub & Grill!
X-ALT-DESC;FMTTYPE=text/html:New Member Ribbon Cutting at Route 47 Pub &amp\; Grill!
LOCATION:7820 University Ave NE Fridley 55432
UID:e.380.179491
SEQUENCE:3
DTSTAMP:20260421T051750Z
URL:http://members.metronorthchamber.org/events/details/ribbon-cutting-route-47-pub-grill-179491
END:VEVENT

END:VCALENDAR
