BEGIN:VCALENDAR
VERSION:2.0
PRODID:-//ChamberMaster//Event Calendar 2.0//EN
METHOD:PUBLISH
X-PUBLISHED-TTL:P3D
REFRESH-INTERVAL:P3D
CALSCALE:GREGORIAN
BEGIN:VEVENT
DTSTART:20180620T204500Z
DTEND:20180620T213000Z
X-MICROSOFT-CDO-ALLDAYEVENT:FALSE
SUMMARY:Ribbon Cutting - Rihm Kenworth
DESCRIPTION:Join us in welcoming Rihm Kenworth's new location to Coon Rapids!
X-ALT-DESC;FMTTYPE=text/html:Join us in welcoming Rihm&nbsp\;Kenworth&#39\;s new location to Coon Rapids!
LOCATION:Rihm Kenworth 9400 Evergreen Blvd Coon Rapids\, MN 55433
UID:e.380.185672
SEQUENCE:3
DTSTAMP:20260420T200109Z
URL:http://members.metronorthchamber.org/events/details/ribbon-cutting-rihm-kenworth-185672
END:VEVENT

END:VCALENDAR
