BEGIN:VCALENDAR
VERSION:2.0
PRODID:-//ChamberMaster//Event Calendar 2.0//EN
METHOD:PUBLISH
X-PUBLISHED-TTL:P3D
REFRESH-INTERVAL:P3D
CALSCALE:GREGORIAN
BEGIN:VEVENT
DTSTART:20180906T210000Z
DTEND:20180906T213000Z
X-MICROSOFT-CDO-ALLDAYEVENT:FALSE
SUMMARY:Ribbon Cutting - Raymond James
DESCRIPTION:Join us in welcoming Raymond James' Coon Rapids location to the MetroNorth Chamber!
X-ALT-DESC;FMTTYPE=text/html:Join us in welcoming Raymond James&#39\; Coon Rapids location to the MetroNorth Chamber!<br />\n&nbsp\;
LOCATION:3340 Northdale Blvd NW Suite 110 Coon Rapids\, MN 55448
UID:e.380.185802
SEQUENCE:3
DTSTAMP:20260420T152458Z
URL:http://members.metronorthchamber.org/events/details/ribbon-cutting-raymond-james-185802
END:VEVENT

END:VCALENDAR
