BEGIN:VCALENDAR
VERSION:2.0
PRODID:-//ChamberMaster//Event Calendar 2.0//EN
METHOD:PUBLISH
X-PUBLISHED-TTL:P3D
REFRESH-INTERVAL:P3D
CALSCALE:GREGORIAN
BEGIN:VEVENT
DTSTART:20161101T143000Z
DTEND:20161101T150000Z
X-MICROSOFT-CDO-ALLDAYEVENT:FALSE
SUMMARY:Ribbon Cutting - Raising Cane's
DESCRIPTION:Join us for the Raising Cane's ribbon cutting in Blaine. They will be celebrating their grand opening!
X-ALT-DESC;FMTTYPE=text/html:Join us for the Raising Cane&#39\;s ribbon cutting in Blaine. They will be celebrating their grand opening!&nbsp\;<br />\n&nbsp\;
LOCATION:Raising Cane's 1560 109th Avenue NE Blaine\, MN 55449
UID:e.380.169651
SEQUENCE:3
DTSTAMP:20260422T015455Z
URL:http://members.metronorthchamber.org/events/details/ribbon-cutting-raising-cane-s-169651
END:VEVENT

END:VCALENDAR
