BEGIN:VCALENDAR
VERSION:2.0
PRODID:-//ChamberMaster//Event Calendar 2.0//EN
METHOD:PUBLISH
X-PUBLISHED-TTL:P3D
REFRESH-INTERVAL:P3D
CALSCALE:GREGORIAN
BEGIN:VEVENT
DTSTART:20180604T211500Z
DTEND:20180604T214500Z
X-MICROSOFT-CDO-ALLDAYEVENT:FALSE
SUMMARY:Ribbon Cutting - QC Dance
DESCRIPTION:Join us as we celebrate the 1 year anniversary of QC Dance.\n\nRibbon Cutting at 4:30 pm.
X-ALT-DESC;FMTTYPE=text/html:Join us as we celebrate the 1 year anniversary of QC Dance.<br />\nRibbon Cutting at 4:30 pm.
LOCATION:9967 Ulysses St NE\, Blaine\, MN 55434
UID:e.380.184785
SEQUENCE:3
DTSTAMP:20260420T212734Z
URL:http://members.metronorthchamber.org/events/details/ribbon-cutting-qc-dance-184785
END:VEVENT

END:VCALENDAR
