BEGIN:VCALENDAR
VERSION:2.0
PRODID:-//ChamberMaster//Event Calendar 2.0//EN
METHOD:PUBLISH
X-PUBLISHED-TTL:P3D
REFRESH-INTERVAL:P3D
CALSCALE:GREGORIAN
BEGIN:VEVENT
DTSTART:20171229T160000Z
DTEND:20171230T043000Z
X-MICROSOFT-CDO-ALLDAYEVENT:FALSE
SUMMARY:Ribbon Cutting- Q Salon
DESCRIPTION:Celebrate 20 years!
X-ALT-DESC;FMTTYPE=text/html:Celebrate 20 years!
LOCATION:3507 Round Lake Blvd Anoka
UID:e.380.179543
SEQUENCE:3
DTSTAMP:20260421T051834Z
URL:http://members.metronorthchamber.org/events/details/ribbon-cutting-q-salon-179543
END:VEVENT

END:VCALENDAR
