BEGIN:VCALENDAR
VERSION:2.0
PRODID:-//ChamberMaster//Event Calendar 2.0//EN
METHOD:PUBLISH
X-PUBLISHED-TTL:P3D
REFRESH-INTERVAL:P3D
CALSCALE:GREGORIAN
BEGIN:VEVENT
DTSTART:20141106T180000Z
DTEND:20141106T183000Z
X-MICROSOFT-CDO-ALLDAYEVENT:FALSE
SUMMARY:Ribbon Cutting PC Bits
DESCRIPTION:Celebrate their new location!
X-ALT-DESC;FMTTYPE=text/html:Celebrate their new location!
LOCATION:535 Coon Rapids Blvd. NW Suite # 100 Coon Rapids\, MN 55433
UID:e.380.151672
SEQUENCE:3
DTSTAMP:20260423T173517Z
URL:http://members.metronorthchamber.org/events/details/ribbon-cutting-pc-bits-11-06-2014-151672
END:VEVENT

END:VCALENDAR
