BEGIN:VCALENDAR
VERSION:2.0
PRODID:-//ChamberMaster//Event Calendar 2.0//EN
METHOD:PUBLISH
X-PUBLISHED-TTL:P3D
REFRESH-INTERVAL:P3D
CALSCALE:GREGORIAN
BEGIN:VEVENT
DTSTART:20170123T140000Z
DTEND:20170123T143000Z
X-MICROSOFT-CDO-ALLDAYEVENT:FALSE
SUMMARY:Ribbon Cutting - Panera Bread
DESCRIPTION:Come join us for a ribbon cutting at Panera Bread in Blaine. They have just opened a drive thru at their location. Panera will be having cookies and coffee for all that attend.
X-ALT-DESC;FMTTYPE=text/html:Come join us for a ribbon cutting at Panera Bread in Blaine. They have just opened a drive thru at their location. Panera will be having cookies and coffee for all that attend.
LOCATION:Panera Bread 8601 Springbrook Drive NE Blaine\, 55434 By Caribou and Half Price Books
UID:e.380.171221
SEQUENCE:3
DTSTAMP:20260421T221252Z
URL:http://members.metronorthchamber.org/events/details/ribbon-cutting-panera-bread-171221
END:VEVENT

END:VCALENDAR
