BEGIN:VCALENDAR
VERSION:2.0
PRODID:-//ChamberMaster//Event Calendar 2.0//EN
METHOD:PUBLISH
X-PUBLISHED-TTL:P3D
REFRESH-INTERVAL:P3D
CALSCALE:GREGORIAN
BEGIN:VEVENT
DTSTART:20160616T211500Z
DTEND:20160616T214500Z
X-MICROSOFT-CDO-ALLDAYEVENT:FALSE
SUMMARY:Ribbon Cutting - Pacific Union Financial - Blaine
DESCRIPTION:Help Celebrate the new location of Pacific Union Financial - Blaine. They will be providing appetizers\, beer\, wine\, & soda. Not to mention Nordy from the Minnesota Wild will be on site from 4:30-5:15 pm. There will also be multiple prize drawings throughout the event.
X-ALT-DESC;FMTTYPE=text/html:Help Celebrate the new location of Pacific Union Financial - Blaine. They will be providing appetizers\, beer\, wine\, &amp\; soda. Not to mention Nordy from the Minnesota Wild will be on site from 4:30-5:15&nbsp\;pm. There will also be multiple prize drawings throughout the event.
LOCATION:Pacific Union Financial LLC - Blaine 9240 Baltimore Street Suite 100 Blaine\, MN 55449
UID:e.380.167397
SEQUENCE:3
DTSTAMP:20260422T103533Z
URL:http://members.metronorthchamber.org/events/details/ribbon-cutting-pacific-union-financial-blaine-06-16-2016-167397
END:VEVENT

END:VCALENDAR
