BEGIN:VCALENDAR
VERSION:2.0
PRODID:-//ChamberMaster//Event Calendar 2.0//EN
METHOD:PUBLISH
X-PUBLISHED-TTL:P3D
REFRESH-INTERVAL:P3D
CALSCALE:GREGORIAN
BEGIN:VEVENT
DTSTART:20160224T164500Z
DTEND:20160224T170000Z
X-MICROSOFT-CDO-ALLDAYEVENT:FALSE
SUMMARY:Ribbon Cutting - Oxygen Consulting\, Inc.
DESCRIPTION:Oxygen Consulting will be holding a Ribbon Cutting on Wednesday Feb 24 immediately following the Working With Women meeting. The ribbon cutting is in celebration of Oxygen Consulting's new membership to the MetroNorth Chamber.
X-ALT-DESC;FMTTYPE=text/html:Oxygen Consulting will be holding a Ribbon Cutting on Wednesday Feb 24 immediately following the Working With Women meeting. The ribbon cutting is in celebration of Oxygen Consulting&#39\;s new membership to the MetroNorth Chamber.&nbsp\;
LOCATION:Rasmussen College 3629 95th Avenue NE Blaine\, MN 55014
UID:e.380.163081
SEQUENCE:3
DTSTAMP:20260422T180020Z
URL:http://members.metronorthchamber.org/events/details/ribbon-cutting-oxygen-consulting-inc-02-24-2016-163081
END:VEVENT

END:VCALENDAR
