BEGIN:VCALENDAR
VERSION:2.0
PRODID:-//ChamberMaster//Event Calendar 2.0//EN
METHOD:PUBLISH
X-PUBLISHED-TTL:P3D
REFRESH-INTERVAL:P3D
CALSCALE:GREGORIAN
BEGIN:VEVENT
DTSTART:20151222T221500Z
DTEND:20151222T224500Z
X-MICROSOFT-CDO-ALLDAYEVENT:FALSE
SUMMARY:Ribbon Cutting - Outback Steakhouse
DESCRIPTION:Help welcome Outback Steakhouse to the MetroNorth Chamber by attending their ribbon cutting on December 22. They will be providing appetizers & door prizes as well as offering a cash bar and gift cards.
X-ALT-DESC;FMTTYPE=text/html:Help welcome Outback Steakhouse to the MetroNorth Chamber by attending their ribbon cutting on December 22. They will be providing appetizers &amp\; door prizes as well as offering a cash bar and gift cards.
LOCATION:Outback Steakhouse 8880 Springbrook Drive Coon Rapids\, MN 55433
UID:e.380.159850
SEQUENCE:3
DTSTAMP:20260422T205222Z
URL:http://members.metronorthchamber.org/events/details/ribbon-cutting-outback-steakhouse-12-22-2015-159850
END:VEVENT

END:VCALENDAR
