BEGIN:VCALENDAR
VERSION:2.0
PRODID:-//ChamberMaster//Event Calendar 2.0//EN
METHOD:PUBLISH
X-PUBLISHED-TTL:P3D
REFRESH-INTERVAL:P3D
CALSCALE:GREGORIAN
BEGIN:VEVENT
DTSTART:20170525T170000Z
DTEND:20170525T174500Z
X-MICROSOFT-CDO-ALLDAYEVENT:FALSE
SUMMARY:Ribbon Cutting - Orthology
DESCRIPTION:Ribbon Cutting to celebrate New Services offered at Orthology!        \n\nRefreshments/Snacks\n\nDoor Prizes\n\nPilates Reformer Demonstration\n\nFree Mini treatments (soft tissue work)!
X-ALT-DESC;FMTTYPE=text/html:Ribbon Cutting to celebrate New Services offered at Orthology!&nbsp\;&nbsp\;&nbsp\;&nbsp\;&nbsp\;&nbsp\;&nbsp\;&nbsp\;<br />\nRefreshments/Snacks<br />\nDoor Prizes<br />\nPilates Reformer Demonstration<br />\nFree Mini treatments (soft tissue work)!
LOCATION:3183 Northdale Blvd NW Ste 103 Coon Rapids *plenty of parking in front of clinic*
UID:e.380.175001
SEQUENCE:3
DTSTAMP:20260421T170647Z
URL:http://members.metronorthchamber.org/events/details/ribbon-cutting-orthology-175001
END:VEVENT

END:VCALENDAR
